BEGIN:VCALENDAR
VERSION:2.0
METHOD:PUBLISH
PRODID:-//Telerik Inc.//Sitefinity CMS 13.1//EN
BEGIN:VTIMEZONE
TZID:W. Australia Standard Time
BEGIN:STANDARD
DTSTART;VALUE=DATE:20250101
TZNAME:W. Australia Standard Time
TZOFFSETFROM:+0800
TZOFFSETTO:+0800
END:STANDARD
END:VTIMEZONE
BEGIN:VEVENT
DESCRIPTION:Join the&nbsp\;Organisation of African Communities of Western A
 ustralia for Africa Week 2026\,&nbsp\;a two-day celebration uniting cultur
 e\, business and community.&nbsp\;The event will showcase the richness of 
 African heritage and culture\, featuring live music\, traditional dance pe
 rformances\, cultural showcases and fashion\, authentic African cuisine an
 d market stalls. 🪘🌍This event has been supported by the Office of Multic
 ultural Interests.Event details:When: 2:00 pm to 10:00 pm Saturday 25 Apri
 l 2026 and 3:00 pm to 9:00 pm Sunday 26 April 2026Where: Charles Paterson 
 Park\, BurswoodCost: Free
DTEND:20260426T130000Z
DTSTAMP:20260424T224752Z
DTSTART:20260425T060000Z
LOCATION:Burswood\,54 Craig Street\,Charles Patterson Park
SEQUENCE:0
SUMMARY:Africa Week 2026
UID:RFCALITEM639126964729693626
X-ALT-DESC;FMTTYPE=text/html:<p>Join the&nbsp\;Organisation of African Comm
 unities of Western Australia for Africa Week 2026\,&nbsp\;a two-day celebr
 ation uniting culture\, business and community.&nbsp\;</p><p>The event wil
 l showcase the richness of African heritage and culture\, featuring live m
 usic\, traditional dance performances\, cultural showcases and fashion\, a
 uthentic African cuisine and market stalls. 🪘🌍</p><p>This event has been
  supported by the Office of Multicultural Interests.</p><p><strong>Event d
 etails:</strong><br /><strong>When: </strong>2:00 pm to 10:00 pm Saturday 
 25 April 2026 and 3:00 pm to 9:00 pm Sunday 26 April 2026<br /><strong>Whe
 re: </strong>Charles Paterson Park\, Burswood<br /><strong>Cost: </strong>
 Free</p>
END:VEVENT
END:VCALENDAR
