BEGIN:VCALENDAR
VERSION:2.0
METHOD:PUBLISH
PRODID:-//Telerik Inc.//Sitefinity CMS 13.1//EN
BEGIN:VTIMEZONE
TZID:W. Australia Standard Time
BEGIN:STANDARD
DTSTART;VALUE=DATE:20250101
TZNAME:W. Australia Standard Time
TZOFFSETFROM:+0800
TZOFFSETTO:+0800
END:STANDARD
END:VTIMEZONE
BEGIN:VEVENT
DESCRIPTION:Join Auspire for Australia's Democracy and You Workshop\, a fre
 e community workshop designed is designed to be accessible for people who 
 may be new to Australia&rsquo\;s democratic and electoral systems. This in
 formative and interactive session serves as an opportunity to gain knowled
 ge into Australia's democracy and society.Topics covered include:the Austr
 alian constitutionAustralia's three levels of government and parliamentary
  system features of democracy&nbsp\;voting - rights\, responsibilities\, e
 nrolment and preferential voting.The session will also feature opportunity
  for community engagement with the Constitutional Centre of Western Austra
 lia\, the Western Australian Electoral Commission\, and Auspire &ndash\; A
 ustralia Day Council WA.This workshop has been supported by the Office of 
 Multicultural Interests.Event details:When: Wednesday 10 June 2026Time: 5:
 30 pm to 8 pmWhere: The Constitutional Centre of WA\, 4 Havelock St\, West
  PerthCost: Free\, registration required&nbsp\;
DTEND:20260610T120000Z
DTSTAMP:20260424T224726Z
DTSTART:20260610T093000Z
LOCATION:West Perth\,4 Havelock St\,The Constitutional Centre of WA
SEQUENCE:0
SUMMARY:Australia's Democracy and You Workshop
UID:RFCALITEM639126964468291775
X-ALT-DESC;FMTTYPE=text/html:<p>Join Auspire for Australia's Democracy and 
 You Workshop\, a free community workshop designed is designed to be access
 ible for people who may be new to Australia&rsquo\;s democratic and electo
 ral systems. This informative and interactive session serves as an opportu
 nity to gain knowledge into Australia's democracy and society.</p><p>Topic
 s covered include:</p><ul><li>the Australian constitution</li><li>Australi
 a's three levels of government and parliamentary system </li><li>features 
 of democracy&nbsp\;</li><li>voting - rights\, responsibilities\, enrolment
  and preferential voting.</li></ul><p>The session will also feature opport
 unity for community engagement with the Constitutional Centre of Western A
 ustralia\, the Western Australian Electoral Commission\, and Auspire &ndas
 h\; Australia Day Council WA.</p><p>This workshop has been supported by th
 e Office of Multicultural Interests.</p><div><strong>Event details:</stron
 g></div><div><strong>When: </strong>Wednesday 10 June 2026</div><div><stro
 ng>Time: </strong>5:30 pm to 8 pm</div><div><strong>Where: </strong>The Co
 nstitutional Centre of WA\, 4 Havelock St\, West Perth</div><div><strong>C
 ost: </strong>Free\, registration required&nbsp\;</div>
END:VEVENT
END:VCALENDAR
