BEGIN:VCALENDAR
VERSION:2.0
METHOD:PUBLISH
PRODID:-//Telerik Inc.//Sitefinity CMS 13.1//EN
BEGIN:VTIMEZONE
TZID:W. Australia Standard Time
BEGIN:STANDARD
DTSTART;VALUE=DATE:20250101
TZNAME:W. Australia Standard Time
TZOFFSETFROM:+0800
TZOFFSETTO:+0800
END:STANDARD
END:VTIMEZONE
BEGIN:VEVENT
DESCRIPTION:Join Hakka WA for a cultural celebration of Hakka heritage\, fo
 od and wellness. Event highlights include: 🍜 a food history talk about Ha
 kka cuisine and its cultural significance&nbsp\;🚵 a wellness talk featuri
 ng practical tips for living a balanced and healthy life&nbsp\;🧘 a Tai Ch
 i presentation with a live demonstration.&nbsp\;This event has been suppor
 ted by the Office of Multicultural Interests.
DTEND:20260419T061500Z
DTSTAMP:20260424T212315Z
DTSTART:20260419T023000Z
LOCATION:Bentley\,1-3 Hill View Place\,Hillview Intercultural Community Cen
 tre
SEQUENCE:0
SUMMARY:Hakka Connect: Strengthening Community Bonds Through Culture
UID:RFCALITEM639126913953680486
X-ALT-DESC;FMTTYPE=text/html:<p>Join Hakka WA for a cultural celebration of
  Hakka heritage\, food and wellness. </p><p>Event highlights include: </p>
 <div>🍜 a food history talk about Hakka cuisine and its cultural significa
 nce&nbsp\;</div><div>🚵 a wellness talk featuring practical tips for livin
 g a balanced and healthy life&nbsp\;</div><div>🧘 a Tai Chi presentation w
 ith a live demonstration.&nbsp\;</div><div><br /></div><p>This event has b
 een supported by the Office of Multicultural Interests.</p>
END:VEVENT
END:VCALENDAR
