BEGIN:VCALENDAR
VERSION:2.0
METHOD:PUBLISH
PRODID:-//Telerik Inc.//Sitefinity CMS 13.1//EN
BEGIN:VTIMEZONE
TZID:W. Australia Standard Time
BEGIN:STANDARD
DTSTART;VALUE=DATE:20250101
TZNAME:W. Australia Standard Time
TZOFFSETFROM:+0800
TZOFFSETTO:+0800
END:STANDARD
END:VTIMEZONE
BEGIN:VEVENT
DESCRIPTION:The Perth Indonesian Festival 2026 and Food Bazaar is back for 
 another year proudly hosted by the Perth Indonesian Community.Enjoy a full
  day of activities including:🎵traditional dance\, live Indonesian music a
 nd cultural performances&nbsp\;🌏community cultural displays🎨arts and cra
 fts stalls👨&zwj\;👩&zwj\;👧&zwj\;👦family friendly activities🍜authentic 
 Indonesian street food\, regional specialties\, snacks\, desserts and drin
 ks.This event has been supported by the Office of Multicultural Interests.
 Event details:When: Saturday 18 April 2026Time: 11:00 am to 6:30 pmWhere: 
 Forrest Place\, 419 Wellington Street\, PerthCost: Free
DTEND:20260418T103000Z
DTSTAMP:20260422T171350Z
DTSTART:20260418T030000Z
LOCATION:Perth\,419 Wellington Street\,Forest Place walk way
SEQUENCE:0
SUMMARY:Perth Indonesian Festival 2026 and Food Bazaar
UID:RFCALITEM639125036305995553
X-ALT-DESC;FMTTYPE=text/html:<div>The Perth Indonesian Festival 2026 and Fo
 od Bazaar is back for another year proudly hosted by the Perth Indonesian 
 Community.</div><div><br /></div><div><p>Enjoy a full day of activities in
 cluding:</p><div>🎵traditional dance\, live Indonesian music and cultural 
 performances&nbsp\;</div><div>🌏community cultural displays</div><div>🎨ar
 ts and crafts stalls</div><div>👨&zwj\;👩&zwj\;👧&zwj\;👦family friendly a
 ctivities</div><div>🍜authentic Indonesian street food\, regional specialt
 ies\, snacks\, desserts and drinks.</div><div></div><div><br /></div></div
 ><div><p>This event has been supported by the Office of Multicultural Inte
 rests.</p></div><div><strong>Event details:</strong></div><div><strong>Whe
 n: </strong>Saturday 18 April 2026</div><div><strong>Time:</strong> 11:00 
 am to 6:30 pm</div><div><strong>Where:</strong> Forrest Place\, 419 Wellin
 gton Street\, Perth</div><div><strong>Cost: </strong>Free</div>
END:VEVENT
END:VCALENDAR
