BEGIN:VCALENDAR
VERSION:2.0
METHOD:PUBLISH
PRODID:-//Telerik Inc.//Sitefinity CMS 13.1//EN
BEGIN:VTIMEZONE
TZID:W. Australia Standard Time
BEGIN:STANDARD
DTSTART;VALUE=DATE:20250101
TZNAME:W. Australia Standard Time
TZOFFSETFROM:+0800
TZOFFSETTO:+0800
END:STANDARD
END:VTIMEZONE
BEGIN:VEVENT
DESCRIPTION:Join Peel Community Legal Services for What&rsquo\;s the Law: T
 enancy Workshop\, a free community workshop designed especially for people
  from culturally and linguistically diverse backgrounds. This session is d
 esigned to help you better understand the law and feel more confident in y
 our rights as a renter.Topics covered will include:your rights and respons
 ibilities as a renterwhat to do if something goes wrongunderstanding the e
 nd of your tenancy.Light refreshments will be provided and interpretation 
 support can be arranged upon request.This project has been supported by th
 e Office of Multicultural Interests.Event details:When: Thursday 28 May 20
 26Time: 10:00 am to 12:00 pmWhere: Peel Multicultural Association\, 26 Sut
 ton Street\, MandurahCost: Free\, registration requiredTo register or for 
 more information\, contact Peel Community Legal Services at 9581 4511 or e
 mail hello@peelcls.com.au
DTEND:20260528T040000Z
DTSTAMP:20260424T224630Z
DTSTART:20260528T020000Z
LOCATION:Mandurah\,26 Sutton Street\,Peel Multicultural Association
SEQUENCE:0
SUMMARY:What's the Law? Tenancy
UID:RFCALITEM639126963908113665
X-ALT-DESC;FMTTYPE=text/html:<div>Join Peel Community Legal Services for Wh
 at&rsquo\;s the Law: Tenancy Workshop\, a free community workshop designed
  especially for people from culturally and linguistically diverse backgrou
 nds. This session is designed to help you better understand the law and fe
 el more confident in your rights as a renter.</div><div><br /></div><div>T
 opics covered will include:</div><ul><li>your rights and responsibilities 
 as a renter</li><li>what to do if something goes wrong</li><li>understandi
 ng the end of your tenancy.</li></ul><div></div><div><p>Light refreshments
  will be provided and interpretation support can be arranged upon request.
 </p></div><div><p>This project has been supported by the Office of Multicu
 ltural Interests.</p><div><strong>Event details:</strong></div><div><stron
 g>When: </strong>Thursday 28 May 2026</div><div><strong>Time: </strong>10:
 00 am to 12:00 pm</div><div><strong>Where:</strong> Peel Multicultural Ass
 ociation\, 26 Sutton Street\, Mandurah</div><div><strong>Cost:</strong> Fr
 ee\, registration required</div><div><br /></div><div>To register or for m
 ore information\, contact Peel Community Legal Services at 9581 4511 or em
 ail <a href="mailto:hello@peelcls.com.au">hello@peelcls.com.au</a><p></p><
 /div></div>
END:VEVENT
END:VCALENDAR
